BEGIN:VCALENDAR
VERSION:2.0
PRODID:-//Town of Orchard Park - ECPv5.7.1//NONSGML v1.0//EN
CALSCALE:GREGORIAN
METHOD:PUBLISH
X-WR-CALNAME:Town of Orchard Park
X-ORIGINAL-URL:https://www.orchardparkny.org
X-WR-CALDESC:Events for Town of Orchard Park
BEGIN:VTIMEZONE
TZID:America/New_York
BEGIN:DAYLIGHT
TZOFFSETFROM:-0500
TZOFFSETTO:-0400
TZNAME:EDT
DTSTART:20190310T070000
END:DAYLIGHT
BEGIN:STANDARD
TZOFFSETFROM:-0400
TZOFFSETTO:-0500
TZNAME:EST
DTSTART:20191103T060000
END:STANDARD
END:VTIMEZONE
BEGIN:VEVENT
DTSTART;TZID=America/New_York:20191106T180000
DTEND;TZID=America/New_York:20191106T190000
DTSTAMP:20210627T120119
CREATED:20191104T165941Z
LAST-MODIFIED:20191104T171157Z
UID:8348-1573063200-1573066800@www.orchardparkny.org
SUMMARY:6pm Public Hearing on 2020 Town Budget
DESCRIPTION:
URL:https://www.orchardparkny.org/event/6pm-public-hearing-2020-on-town-budget/
LOCATION:1st Floor Town Board Room\, 4295 South Buffalo St\, Orchard Park\, NY\, 14127\, United States
CATEGORIES:Community
END:VEVENT
END:VCALENDAR