BEGIN:VCALENDAR
VERSION:2.0
PRODID:-//Town of Orchard Park - ECPv5.8.1//NONSGML v1.0//EN
CALSCALE:GREGORIAN
METHOD:PUBLISH
X-WR-CALNAME:Town of Orchard Park
X-ORIGINAL-URL:https://www.orchardparkny.org
X-WR-CALDESC:Events for Town of Orchard Park
BEGIN:VTIMEZONE
TZID:America/New_York
BEGIN:DAYLIGHT
TZOFFSETFROM:-0500
TZOFFSETTO:-0400
TZNAME:EDT
DTSTART:20190310T070000
END:DAYLIGHT
BEGIN:STANDARD
TZOFFSETFROM:-0400
TZOFFSETTO:-0500
TZNAME:EST
DTSTART:20191103T060000
END:STANDARD
END:VTIMEZONE
BEGIN:VEVENT
DTSTART;VALUE=DATE:20190914
DTEND;VALUE=DATE:20190915
DTSTAMP:20210725T052219
CREATED:20190320T192538Z
LAST-MODIFIED:20190918T202343Z
UID:6258-1568419200-1568505599@www.orchardparkny.org
SUMMARY:Hazardous Waste Collection Events
DESCRIPTION:Hazardous Waste Drop Off \nPlease Register for the event by going to www.erie.gov/recycling or calling 716.858.6800 beginning 30 days before the event. \nDetails on flyer and website show event locations.
URL:https://www.orchardparkny.org/event/hazardous-waste-collection-events/2019-09-14/
CATEGORIES:Community
ORGANIZER;CN="Erie%20County%20Department%20of%20Environment%20and%20Planning":MAILTO:recycling@erie.gov
END:VEVENT
END:VCALENDAR