BEGIN:VCALENDAR
VERSION:2.0
PRODID:-//Town of Orchard Park - ECPv5.8.1//NONSGML v1.0//EN
CALSCALE:GREGORIAN
METHOD:PUBLISH
X-WR-CALNAME:Town of Orchard Park
X-ORIGINAL-URL:https://www.orchardparkny.org
X-WR-CALDESC:Events for Town of Orchard Park
BEGIN:VTIMEZONE
TZID:America/New_York
BEGIN:DAYLIGHT
TZOFFSETFROM:-0500
TZOFFSETTO:-0400
TZNAME:EDT
DTSTART:20190310T070000
END:DAYLIGHT
BEGIN:STANDARD
TZOFFSETFROM:-0400
TZOFFSETTO:-0500
TZNAME:EST
DTSTART:20191103T060000
END:STANDARD
END:VTIMEZONE
BEGIN:VEVENT
DTSTART;TZID=America/New_York:20190820T180000
DTEND;TZID=America/New_York:20190820T200000
DTSTAMP:20210725T052134
CREATED:20190225T150610Z
LAST-MODIFIED:20210720T023529Z
UID:9156-1566324000-1566331200@www.orchardparkny.org
SUMMARY:Public Safety Committee Meeting
DESCRIPTION:
URL:https://www.orchardparkny.org/event/public-safety-committee-meeting/2019-08-20/
END:VEVENT
END:VCALENDAR