BEGIN:VCALENDAR
VERSION:2.0
PRODID:-//Town of Orchard Park - ECPv5.9.1//NONSGML v1.0//EN
CALSCALE:GREGORIAN
METHOD:PUBLISH
X-WR-CALNAME:Town of Orchard Park
X-ORIGINAL-URL:https://www.orchardparkny.org
X-WR-CALDESC:Events for Town of Orchard Park
BEGIN:VTIMEZONE
TZID:America/New_York
BEGIN:DAYLIGHT
TZOFFSETFROM:-0500
TZOFFSETTO:-0400
TZNAME:EDT
DTSTART:20210314T070000
END:DAYLIGHT
BEGIN:STANDARD
TZOFFSETFROM:-0400
TZOFFSETTO:-0500
TZNAME:EST
DTSTART:20211107T060000
END:STANDARD
END:VTIMEZONE
BEGIN:VEVENT
DTSTART;TZID=America/New_York:20211019T180000
DTEND;TZID=America/New_York:20211019T200000
DTSTAMP:20210930T033830
CREATED:20190225T150610Z
LAST-MODIFIED:20210720T023546Z
UID:13797-1634666400-1634673600@www.orchardparkny.org
SUMMARY:Public Safety Committee Meeting
DESCRIPTION:
URL:https://www.orchardparkny.org/event/public-safety-committee-meeting/2021-10-19/
END:VEVENT
END:VCALENDAR