BEGIN:VCALENDAR
VERSION:2.0
PRODID:-//Town of Orchard Park - ECPv5.8.0//NONSGML v1.0//EN
CALSCALE:GREGORIAN
METHOD:PUBLISH
X-WR-CALNAME:Town of Orchard Park
X-ORIGINAL-URL:https://www.orchardparkny.org
X-WR-CALDESC:Events for Town of Orchard Park
BEGIN:VTIMEZONE
TZID:America/New_York
BEGIN:DAYLIGHT
TZOFFSETFROM:-0500
TZOFFSETTO:-0400
TZNAME:EDT
DTSTART:20190310T070000
END:DAYLIGHT
BEGIN:STANDARD
TZOFFSETFROM:-0400
TZOFFSETTO:-0500
TZNAME:EST
DTSTART:20191103T060000
END:STANDARD
END:VTIMEZONE
BEGIN:VEVENT
DTSTART;TZID=America/New_York:20190807T171500
DTEND;TZID=America/New_York:20190807T190000
DTSTAMP:20210702T072332
CREATED:20190225T194355Z
LAST-MODIFIED:20190801T195622Z
UID:6201-1565198100-1565204400@www.orchardparkny.org
SUMMARY:Town Board Work Session
DESCRIPTION:5:15 PM Executive Session – Attorney Interview \n6:00 PM Department Managers Discussion
URL:https://www.orchardparkny.org/event/town-board-work-session-2019-08-07/
LOCATION:Municipal Center\, 4295 South Buffalo Street\, Orchard Park\, NY\, United States
END:VEVENT
END:VCALENDAR