BEGIN:VCALENDAR
VERSION:2.0
PRODID:-//Town of Orchard Park - ECPv5.8.0//NONSGML v1.0//EN
CALSCALE:GREGORIAN
METHOD:PUBLISH
X-WR-CALNAME:Town of Orchard Park
X-ORIGINAL-URL:https://www.orchardparkny.org
X-WR-CALDESC:Events for Town of Orchard Park
BEGIN:VTIMEZONE
TZID:America/New_York
BEGIN:DAYLIGHT
TZOFFSETFROM:-0500
TZOFFSETTO:-0400
TZNAME:EDT
DTSTART:20190310T070000
END:DAYLIGHT
BEGIN:STANDARD
TZOFFSETFROM:-0400
TZOFFSETTO:-0500
TZNAME:EST
DTSTART:20191103T060000
END:STANDARD
END:VTIMEZONE
BEGIN:VEVENT
DTSTART;TZID=America/New_York:20190828T180000
DTEND;TZID=America/New_York:20190828T190000
DTSTAMP:20210702T072521
CREATED:20190225T194355Z
LAST-MODIFIED:20190828T185224Z
UID:6204-1567015200-1567018800@www.orchardparkny.org
SUMMARY:Town Board Work Session
DESCRIPTION:6:00 PM  Department Managers Discussion \n6:45 PM Discuss Building Code Fee Schedule \n7:10 PM Executive Session – Personnel Discussion with HR
URL:https://www.orchardparkny.org/event/town-board-work-session-2019-08-28/
LOCATION:Municipal Center\, 4295 South Buffalo Street\, Orchard Park\, NY\, United States
END:VEVENT
END:VCALENDAR