BEGIN:VCALENDAR
VERSION:2.0
PRODID:-//Town of Orchard Park - ECPv5.7.0//NONSGML v1.0//EN
CALSCALE:GREGORIAN
METHOD:PUBLISH
X-WR-CALNAME:Town of Orchard Park
X-ORIGINAL-URL:https://www.orchardparkny.org
X-WR-CALDESC:Events for Town of Orchard Park
BEGIN:VTIMEZONE
TZID:America/New_York
BEGIN:DAYLIGHT
TZOFFSETFROM:-0500
TZOFFSETTO:-0400
TZNAME:EDT
DTSTART:20210314T070000
END:DAYLIGHT
BEGIN:STANDARD
TZOFFSETFROM:-0400
TZOFFSETTO:-0500
TZNAME:EST
DTSTART:20211107T060000
END:STANDARD
END:VTIMEZONE
BEGIN:VEVENT
DTSTART;TZID=America/New_York:20211006T180000
DTEND;TZID=America/New_York:20211006T190000
DTSTAMP:20210605T153714
CREATED:20190225T194355Z
LAST-MODIFIED:20210602T161943Z
UID:16056-1633543200-1633546800@www.orchardparkny.org
SUMMARY:Town Board Work Session
DESCRIPTION:Agenda: \n6:00 PM Department Managers Discussion \n  \n*Additional topics maybe added a necessary
URL:https://www.orchardparkny.org/event/town-board-work-session-2020-05-06-2020-05-27-2020-06-17-2020-07-08-2020-08-05-2020-09-02-2020-10-07-2020-11-11/2021-10-06/
LOCATION:Municipal Center\, 4295 South Buffalo Street\, Orchard Park\, NY\, United States
CATEGORIES:Community,Town Board Meeting
END:VEVENT
END:VCALENDAR