BEGIN:VCALENDAR
VERSION:2.0
PRODID:-//Town of Orchard Park - ECPv5.8.1//NONSGML v1.0//EN
CALSCALE:GREGORIAN
METHOD:PUBLISH
X-WR-CALNAME:Town of Orchard Park
X-ORIGINAL-URL:https://www.orchardparkny.org
X-WR-CALDESC:Events for Town of Orchard Park
BEGIN:VTIMEZONE
TZID:America/New_York
BEGIN:DAYLIGHT
TZOFFSETFROM:-0500
TZOFFSETTO:-0400
TZNAME:EDT
DTSTART:20220313T070000
END:DAYLIGHT
BEGIN:STANDARD
TZOFFSETFROM:-0400
TZOFFSETTO:-0500
TZNAME:EST
DTSTART:20221106T060000
END:STANDARD
END:VTIMEZONE
BEGIN:VEVENT
DTSTART;TZID=America/New_York:20220517T073000
DTEND;TZID=America/New_York:20220517T213000
DTSTAMP:20210725T051734
CREATED:20190226T173146Z
LAST-MODIFIED:20190226T173146Z
UID:16676-1652772600-1652823000@www.orchardparkny.org
SUMMARY:Tree Conservancy
DESCRIPTION:
URL:https://www.orchardparkny.org/event/tree-conservancy/2022-05-17/
LOCATION:NY\, United States
END:VEVENT
END:VCALENDAR