BEGIN:VCALENDAR
VERSION:2.0
PRODID:-//Town of Orchard Park - ECPv5.9.1//NONSGML v1.0//EN
CALSCALE:GREGORIAN
METHOD:PUBLISH
X-WR-CALNAME:Town of Orchard Park
X-ORIGINAL-URL:https://www.orchardparkny.org
X-WR-CALDESC:Events for Town of Orchard Park
BEGIN:VTIMEZONE
TZID:America/New_York
BEGIN:DAYLIGHT
TZOFFSETFROM:-0500
TZOFFSETTO:-0400
TZNAME:EDT
DTSTART:20210314T070000
END:DAYLIGHT
BEGIN:STANDARD
TZOFFSETFROM:-0400
TZOFFSETTO:-0500
TZNAME:EST
DTSTART:20211107T060000
END:STANDARD
END:VTIMEZONE
BEGIN:VEVENT
DTSTART;TZID=America/New_York:20210817T190000
DTEND;TZID=America/New_York:20210817T210000
DTSTAMP:20210929T010502
CREATED:20210806T140508Z
LAST-MODIFIED:20210806T140508Z
UID:17073-1629226800-1629234000@www.orchardparkny.org
SUMMARY:Zoning Board of Appeals Meeting
DESCRIPTION:Zoning Board of Appeals Agenda Download (Click Here)
URL:https://www.orchardparkny.org/event/zoning-board-of-appeals-meeting-2/
CATEGORIES:Community,Zoning Board of Appeals
END:VEVENT
END:VCALENDAR