BEGIN:VCALENDAR
VERSION:2.0
PRODID:-//Town of Orchard Park - ECPv5.8.1//NONSGML v1.0//EN
CALSCALE:GREGORIAN
METHOD:PUBLISH
X-WR-CALNAME:Town of Orchard Park
X-ORIGINAL-URL:https://www.orchardparkny.org
X-WR-CALDESC:Events for Town of Orchard Park
BEGIN:VTIMEZONE
TZID:America/New_York
BEGIN:DAYLIGHT
TZOFFSETFROM:-0500
TZOFFSETTO:-0400
TZNAME:EDT
DTSTART:20200308T070000
END:DAYLIGHT
BEGIN:STANDARD
TZOFFSETFROM:-0400
TZOFFSETTO:-0500
TZNAME:EST
DTSTART:20201101T060000
END:STANDARD
END:VTIMEZONE
BEGIN:VEVENT
DTSTART;TZID=America/New_York:20200909T180000
DTEND;TZID=America/New_York:20200909T180000
DTSTAMP:20210815T053639
CREATED:20190225T194355Z
LAST-MODIFIED:20200910T162517Z
UID:11615-1599674400-1599674400@www.orchardparkny.org
SUMMARY:Town Board Work Session
DESCRIPTION:Agenda: \n6:00  PM:  Department Management Discussion \nCouncil-member Flynn: \n\nTailgating resolution\n\n6:50  PM:  Capital Projects meeting \n09/09/2020 Town Board Recorded Work Session @ 6pm (Click Here)\n09/09/2020 Town Board Recorded Capital Projects Session (Click Here)
URL:https://www.orchardparkny.org/event/town-board-work-session-2020-05-06-2020-05-27-2020-06-17-2020-07-08-2020-09-09/
LOCATION:Municipal Center\, 4295 South Buffalo Street\, Orchard Park\, NY\, United States
CATEGORIES:Town Board Meeting
END:VEVENT
END:VCALENDAR