BEGIN:VCALENDAR
VERSION:2.0
PRODID:-//Town of Orchard Park - ECPv5.8.1//NONSGML v1.0//EN
CALSCALE:GREGORIAN
METHOD:PUBLISH
X-WR-CALNAME:Town of Orchard Park
X-ORIGINAL-URL:https://www.orchardparkny.org
X-WR-CALDESC:Events for Town of Orchard Park
BEGIN:VTIMEZONE
TZID:America/New_York
BEGIN:DAYLIGHT
TZOFFSETFROM:-0500
TZOFFSETTO:-0400
TZNAME:EDT
DTSTART:20210314T070000
END:DAYLIGHT
BEGIN:STANDARD
TZOFFSETFROM:-0400
TZOFFSETTO:-0500
TZNAME:EST
DTSTART:20211107T060000
END:STANDARD
END:VTIMEZONE
BEGIN:VEVENT
DTSTART;TZID=America/New_York:20210217T180000
DTEND;TZID=America/New_York:20210217T190000
DTSTAMP:20210723T155350
CREATED:20210216T194301Z
LAST-MODIFIED:20210218T155107Z
UID:15829-1613584800-1613588400@www.orchardparkny.org
SUMMARY:Town Board Work Session
DESCRIPTION:Agenda: \n6:00 PM Department Managers Discussion \n*Additional topics maybe added a necessary \n02/17/2021 Town Board Recorded Work Session (Click Here) \nWork Session Agenda
URL:https://www.orchardparkny.org/event/town-board-work-session-35/
CATEGORIES:Community,Town Board Meeting
END:VEVENT
BEGIN:VEVENT
DTSTART;TZID=America/New_York:20210217T190000
DTEND;TZID=America/New_York:20210217T210000
DTSTAMP:20210723T155350
CREATED:20210216T195531Z
LAST-MODIFIED:20210218T004905Z
UID:15834-1613588400-1613595600@www.orchardparkny.org
SUMMARY:Town Board Meeting
DESCRIPTION:I           DEPUTY SUPERVISOR CALL TO ORDER\n\nPledge of Allegiance\nRoll Call\nFire Safety Notification: “Fire exits are located at the rear of the board room and at the doorway to the left. If notified\, please move in a calm and orderly fashion to the nearest exits”.\nIf anyone appearing before the Town Board has a family\, financial or business relationship with any member of the Board\, it is incumbent upon that person to make it known under State Law and the Town Code of Ethics.\n\n II         MINUTES       Regular Town Board: February 3\, 2021 \nExecutive Sessions: February 3\, 2021 \n  \nIII        PUBLIC HEARINGS \n\n Public Hearing for the re-creation of Orchard Park Drainage District #2-3.\n\n  \nIV        PUBLIC COMMENT ON OLD BUSINESS \n V         OLD BUSINESS \n\nTown Board to appoint Ed Leak as Chief Administrator of the Town of Orchard Park’s Parks & Grounds Department.\nTown Board to amend Town Board minutes from 10/07/2020.\n\n  \nVI        PUBLIC COMMENT ON NEW BUSINESS \nVII       NEW BUSINESS \n\nTown Board to appoint Captain Gregory Sheppard to the Public Safety Committee and appointed as Chairman.\nTown Board to approve the Deputy Supervisor to sign an agreement with the County of Erie and the Town of Orchard Park for the reimbursement of 2021 funds towards summer Recreation/Youth services programming.\nTown Board to appoint Dave Helwig as a Seasonal Compost employee at the rate of $20.40 an hour.\nTown Board to authorize an advertisement in the Orchard Park Bee for the Highway and Sewers\, Water\, Lighting / Parks Buildings Generators Project.\nTown Board to approve Testing Consultant for the Milestrip Road Water Tank Abandonment.\nTown Board to authorize the transfer of $400.00 funds from S\,W&L General Account to Clothing Allowance Account due to Payroll for Clothing Allowance.\nTown Board to appoint James Morse to the Ethics Board and appointed as Chairman.\nTown Board to grant Site Plan approval with regard to 4182 South Taylor Road\, located on the west side of South Taylor\, north of Route 20A. Zoned I\, and issue a Building Permit to construct two (2) Storage Facility Buildings\, (8\,550 SF & 5625 SF) per the plans received on 1/11/21\, based on conditions and stipulations.\nTown Board to grant Site Plan approval with regard to Orchard Heights\, 5200 Chestnut Ridge Road. Zoned R-3\, with SR designation and issue a Building Permit to construct Phase 2 of this project per the plan received on 11/06/2020\, based on conditions and stipulations.\n\n  \nVIII     BUSINESS FROM THE FLOOR \n  \nIX        ELECTED OFFICIALS & DEPARTMENT MANAGERS \n  \nDeputy Supervisor Joseph Liberti \nCouncilmember Eugene Majchrzak \nCouncilmember Conor Flynn \nTown Clerk Remy Orffeo \nTown Attorney Timothy Donovan Gallagher \nBuilding Inspector Steve Bremer \nChief of Police Joe Wehrfritz \nHighway Superintendent Fred Piasecki \nTown Engineer Wayne Bieler \nDepartment Heads \nCounty & State Representatives \n  \nX         APPROVAL OF BILLS          Warrant #4 \nXI        COMMUNICATIONS \n\nVillage appointment made to the OPEDC\n\n  \nXII       REPORTS \n\nBuilding Inspector’s January Report\n\n  \nXIII     ADJOURNMENT \n  \n02/17/2021 Town Board Recorded Meeting (Click Here)\nTown Board Agenda Download\nSupporting Documents
URL:https://www.orchardparkny.org/event/town-board-meeting-45/
CATEGORIES:Community,Town Board Meeting
END:VEVENT
END:VCALENDAR