BEGIN:VCALENDAR
VERSION:2.0
PRODID:-//Town of Orchard Park - ECPv5.8.1//NONSGML v1.0//EN
CALSCALE:GREGORIAN
METHOD:PUBLISH
X-WR-CALNAME:Town of Orchard Park
X-ORIGINAL-URL:https://www.orchardparkny.org
X-WR-CALDESC:Events for Town of Orchard Park
BEGIN:VTIMEZONE
TZID:America/New_York
BEGIN:DAYLIGHT
TZOFFSETFROM:-0500
TZOFFSETTO:-0400
TZNAME:EDT
DTSTART:20210314T070000
END:DAYLIGHT
BEGIN:STANDARD
TZOFFSETFROM:-0400
TZOFFSETTO:-0500
TZNAME:EST
DTSTART:20211107T060000
END:STANDARD
END:VTIMEZONE
BEGIN:VEVENT
DTSTART;TZID=America/New_York:20210728T180000
DTEND;TZID=America/New_York:20210728T190000
DTSTAMP:20210810T002537
CREATED:20210726T121521Z
LAST-MODIFIED:20210728T122236Z
UID:17011-1627495200-1627498800@www.orchardparkny.org
SUMMARY:Town Board Work Session ***Meeting Canceled***
DESCRIPTION:Work Session Agenda Download (Click Here) \n*Manager roundtable \nNote: Other items may be added\, as necessary.
URL:https://www.orchardparkny.org/event/town-board-work-session-meeting-canceled/
CATEGORIES:Community,Town Board Meeting
END:VEVENT
END:VCALENDAR